BEGIN:VCALENDAR
VERSION:2.0
PRODID:-//Tukios.com/
BEGIN:VEVENT
UID:9818f6b4-64b8-4d53-b461-926e411f47eb@www.whetselfuneralservice.com
DTSTAMP:20260425T174540Z
DTSTART:20260429T150000Z
DTEND:20260429T170000Z
SUMMARY:Visitation
DESCRIPTION:
URL:https://www.whetselfuneralservice.com/obituaries/malinda-pironello
LOCATION:Whetsel Funeral Service 1503 S Park Ave  Alexandria IN 46001
GEO:40.2482005;-85.6706336
END:VEVENT
END:VCALENDAR