BEGIN:VCALENDAR
VERSION:2.0
PRODID:-//Tukios.com/
BEGIN:VEVENT
UID:c06aa684-49fc-4644-9c04-fb4bd6b4f001@www.whetselfuneralservice.com
DTSTAMP:20260425T174334Z
DTSTART:20260429T170000Z
DTEND:20260429T180000Z
SUMMARY:Funeral Service
DESCRIPTION:
URL:https://www.whetselfuneralservice.com/obituaries/malinda-pironello
LOCATION:Whetsel Funeral Service 1503 S Park Ave  Alexandria IN 46001
GEO:40.2482005;-85.6706336
END:VEVENT
END:VCALENDAR