BEGIN:VCALENDAR
VERSION:2.0
PRODID:-//Tukios.com/
BEGIN:VEVENT
UID:410672af-4ac7-4cce-9009-3f59eb76085b@www.whetselfuneralservice.com
DTSTAMP:20260425T174545Z
DTSTART:20260429T180000Z
DTEND:20260429T190000Z
SUMMARY:Burial
DESCRIPTION:
URL:https://www.whetselfuneralservice.com/obituaries/malinda-pironello
LOCATION:Forrestville Cemetery 1650 S N St  Elwood IN 46036
GEO:40.2640163;-85.8390995
END:VEVENT
END:VCALENDAR